BEGIN:VCALENDAR
VERSION:2.0
PRODID:-//Squarespace Inc/Squarespace 6//v6//EN
BEGIN:VEVENT
UID:5694bf98df40f3841892471e@squarespace.com
DTSTAMP:20160405T055628Z
DTSTART:20160414T223000Z
DTEND:20160416T063000Z
SUMMARY:Immigration Roadshow - New Zealand & Australia\, Jeddah
GEO:21.510948;39.791552
LOCATION:Radisson Blu Hotel\, Al-Madinah Al-Munawarah Rd\, Jeddah\, Saudi A
 rabia
END:VEVENT
END:VCALENDAR
