BEGIN:VCALENDAR
VERSION:2.0
PRODID:-//Squarespace Inc/Squarespace 6//v6//EN
BEGIN:VEVENT
UID:581175521b631bdfe6ddf4d1@squarespace.com
DTSTAMP:20161027T033826Z
DTSTART:20161105T060000Z
DTEND:20161105T080000Z
SUMMARY:Success Global Anniversary Gala
GEO:-41.329773;174.775248
LOCATION:Success Global\, Suite G16\, 1 Clyde Quay Wharf\, Wellington\, New 
 Zealand
END:VEVENT
END:VCALENDAR
