BEGIN:VCALENDAR
VERSION:2.0
PRODID:-//Squarespace Inc/Squarespace 6//v6//EN
BEGIN:VEVENT
UID:56e23862e32140d2422a6a1f@squarespace.com
DTSTAMP:20170211T004356Z
DTSTART:20170223T210000Z
DTEND:20170224T070000Z
SUMMARY:Immigration Roadshow - Australia & New Zealand\, Qatar
GEO:25.32598;51.531836
LOCATION:City Centre Rotana Hotel\, Next to City Centre Mall، Conference Ce
 ntre\, Doha\, Qatar
END:VEVENT
END:VCALENDAR
