BEGIN:VCALENDAR
VERSION:2.0
PRODID:-//Squarespace Inc/Squarespace 6//v6//EN
BEGIN:VEVENT
UID:56e66ca362cd94987f79787f@squarespace.com
DTSTAMP:20160426T052737Z
DTSTART:20160501T020000Z
DTEND:20160502T060000Z
SUMMARY:Immigration Roadshow - New Zealand & Australia\, Kuala Lumpur
GEO:3.144548;101.705726
LOCATION:Swiss Gardent Hotel\, 117 Jalan Pudu\, Wilayah Persekutuan Kuala L
 umpur\, 55100\, Malaysia
END:VEVENT
END:VCALENDAR
