BEGIN:VCALENDAR
VERSION:2.0
PRODID:-//Squarespace Inc/Squarespace 6//v6//EN
BEGIN:VEVENT
UID:58f6d1ab3e00be20b48d181f@squarespace.com
DTSTAMP:20170421T040041Z
DTSTART:20170425T023000Z
DTEND:20170425T043000Z
SUMMARY:Seminar: New Immigration Pathway for South Island Temporary Migrant
 s - 普通工签直通WTR
GEO:-43.526324;172.611753
LOCATION:DoubleTree by Hilton\, Christchurch\, 189 Deans Avenue\, Christchu
 rch\, Canterbury\, 8011\, New Zealand
END:VEVENT
END:VCALENDAR
