BEGIN:VCALENDAR
VERSION:2.0
PRODID:-//Squarespace Inc/Squarespace 6//v6//EN
BEGIN:VEVENT
UID:58f93fcf9f7456dd45827472@squarespace.com
DTSTAMP:20170426T012314Z
DTSTART:20170426T023000Z
DTEND:20170426T043000Z
SUMMARY:Seminar: New Immigration Pathway for South Island Temporary Migrant
 s - 普通工签直通WTR
GEO:-45.031321;168.658886
LOCATION:Sofitel Hotel\, 8 Duke Street\, Queenstown 9300\, New Zealand
END:VEVENT
END:VCALENDAR
