BEGIN:VCALENDAR
VERSION:2.0
PRODID:-//Squarespace Inc/Squarespace 6//v6//EN
BEGIN:VEVENT
UID:589e56f2197aea0415f3e6fc@squarespace.com
DTSTAMP:20170308T072418Z
DTSTART:20170310T223000Z
DTEND:20170311T003000Z
SUMMARY:Business Immigration to Australia & New Zealand Seminar
GEO:25.244328;55.298179
LOCATION:BurJuman Arjaan by Rotana\, Sheikh Khalifa Bin Zayed Street\, Duba
 i\, Dubai\, United Arab Emirates
END:VEVENT
END:VCALENDAR
