BEGIN:VCALENDAR
VERSION:2.0
PRODID:-//Squarespace Inc/Squarespace 6//v6//EN
BEGIN:VEVENT
UID:5ba850cfe79c705ac3a884ce@squarespace.com
DTSTAMP:20180924T025638Z
DTSTART:20180925T050000Z
DTEND:20180925T073000Z
SUMMARY:Meetings with an Immigration Expert in Karachi\, Pakistan
GEO:24.852608;67.032341
LOCATION:Avari Hotel\, 242-244 Fatima Jinnah Road\, Karachi\, Sindh\, Pakis
 tan
END:VEVENT
END:VCALENDAR
