BEGIN:VCALENDAR
VERSION:2.0
PRODID:-//Squarespace Inc/Squarespace 6//v6//EN
BEGIN:VEVENT
UID:5b9056671ae6cf6b825e631e@squarespace.com
DTSTAMP:20180924T024950Z
DTSTART:20180923T000000Z
DTEND:20180923T060000Z
SUMMARY:Immigration Expert in Islamabad\, Pakistan
GEO:33.732716;73.087314
LOCATION:Marriot Hotel Islamabad\, Aga Khan Road\, Shalimar 5، F-5\, Islama
 bad\, Pakistan
END:VEVENT
END:VCALENDAR
