BEGIN:VCALENDAR
VERSION:2.0
PRODID:-//Squarespace Inc/Squarespace 6//v6//EN
BEGIN:VEVENT
UID:583f784846c3c427a3cd3225@squarespace.com
DTSTAMP:20170302T112341Z
DTSTART:20170302T210000Z
DTEND:20170303T050000Z
SUMMARY:Immigration Roadshow - Australia & New Zealand\, Oman
GEO:23.591287;58.412901
LOCATION:Grand Millennium Hotel\, Dohat Al Adab Street\, Al Khuwair 133\, M
 uscat\, Oman
END:VEVENT
END:VCALENDAR
