BEGIN:VCALENDAR
VERSION:2.0
PRODID:-//Squarespace Inc/Squarespace 6//v6//EN
BEGIN:VEVENT
UID:5bea397321c67cd207b488c0@squarespace.com
DTSTAMP:20181113T042347Z
DTSTART:20181119T013000Z
DTEND:20181119T033000Z
SUMMARY:Seminar: Chef Skills Certification - Pathway to Residence in New Ze
 aland
GEO:-41.288584;174.785784
LOCATION:Success Global\, Suite 16\, 1 Clyde Quay Wharf\, Te Aro\, Wellingt
 on 6011\, New Zealand
END:VEVENT
END:VCALENDAR
