BEGIN:VCALENDAR
VERSION:2.0
PRODID:-//Squarespace Inc/Squarespace 6//v6//EN
BEGIN:VEVENT
UID:58fd766637c5811d5b83c453@squarespace.com
DTSTAMP:20181113T023947Z
DTSTART:20170513T013000Z
DTEND:20170513T033000Z
SUMMARY:Seminar: New Immigration Pathway for South Island Temporary Migrant
 s - 南岛普通工签特赦
GEO:-45.857076;170.5156
LOCATION:Mercure Dunedin Leisure Lodge\, 30 Duke Street\, Dunedin\, Otago\, 
 9016\, New Zealand
END:VEVENT
END:VCALENDAR
