BEGIN:VCALENDAR
VERSION:2.0
PRODID:-//Squarespace Inc/Squarespace 6//v6//EN
BEGIN:VEVENT
UID:56f209f1859fd0c9a2851402@squarespace.com
DTSTAMP:20170119T012911Z
DTSTART:20170227T053000Z
DTEND:20170227T063000Z
SUMMARY:Immigration Roadshow - Australia & New Zealand\, Bahrain
GEO:26.233962;50.574695
LOCATION:Downtown Rotana\, 110 Government Avenue\, Manama\, Bahrain
END:VEVENT
END:VCALENDAR
