BEGIN:VCALENDAR
VERSION:2.0
PRODID:-//Squarespace Inc/Squarespace 6//v6//EN
BEGIN:VEVENT
UID:56860f5fa2bab852736c672a@squarespace.com
DTSTAMP:20160801T220130Z
DTSTART:20160804T230000Z
DTEND:20160805T000000Z
SUMMARY:Free Immigration Webinar - Australia & New Zealand
GEO:24.713552;46.675296
LOCATION:Success Global Limited\, Riyadh\, Saudi Arabia
END:VEVENT
END:VCALENDAR
